BEGIN:VCALENDAR
VERSION:2.0
PRODID:-//81.169.145.162//NONSGML kigkonsult.se iCalcreator 2.26.9//
CALSCALE:GREGORIAN
METHOD:PUBLISH
X-FROM-URL:https://johannes-schuetzen.de
X-WR-TIMEZONE:Europe/Berlin
BEGIN:VTIMEZONE
TZID:Europe/Berlin
X-LIC-LOCATION:Europe/Berlin
BEGIN:STANDARD
DTSTART:20251026T030000
TZOFFSETFROM:+0200
TZOFFSETTO:+0100
RDATE:20261025T030000
TZNAME:CET
END:STANDARD
BEGIN:DAYLIGHT
DTSTART:20260329T020000
TZOFFSETFROM:+0100
TZOFFSETTO:+0200
RDATE:20270328T020000
TZNAME:CEST
END:DAYLIGHT
END:VTIMEZONE
BEGIN:VEVENT
UID:ai1ec-1484@johannes-schuetzen.de
DTSTAMP:20260422T112131Z
CATEGORIES:
CONTACT:
DESCRIPTION:
DTSTART;VALUE=DATE:20260913
DTEND;VALUE=DATE:20260914
LOCATION:Damme
SEQUENCE:0
SUMMARY:Bundesschützenfest
URL:https://johannes-schuetzen.de/?ai1ec_event=bundesschuetzenfest-heinsber
 g
X-COST-TYPE:free
END:VEVENT
BEGIN:VEVENT
UID:ai1ec-1482@johannes-schuetzen.de
DTSTAMP:20260422T112131Z
CATEGORIES:
CONTACT:
DESCRIPTION:
DTSTART;TZID=Europe/Berlin:20260225T200000
LOCATION:Schmitz-Mönk @ Willich\, Jakob-Krebs-Str. 28
SEQUENCE:0
SUMMARY:1. Erweiterte Vorstandsversammlung
URL:https://johannes-schuetzen.de/?ai1ec_event=erweiterte-vorstandsversamml
 ung-2-3
X-COST-TYPE:free
X-INSTANT-EVENT:1
END:VEVENT
BEGIN:VEVENT
UID:ai1ec-752@johannes-schuetzen.de
DTSTAMP:20260422T112131Z
CATEGORIES:
CONTACT:
DESCRIPTION:
DTSTART;TZID=Europe/Berlin:20260415T200000
LOCATION:Schmitz-Mönk @ Willich\, Jakob-Krebs-Str. 28
SEQUENCE:0
SUMMARY:2. Erweiterte Vorstandsversammlung
URL:https://johannes-schuetzen.de/?ai1ec_event=erweiterte-vorstandsversamml
 ung-2
X-COST-TYPE:free
X-INSTANT-EVENT:1
END:VEVENT
BEGIN:VEVENT
UID:ai1ec-1150@johannes-schuetzen.de
DTSTAMP:20260422T112131Z
CATEGORIES:
CONTACT:
DESCRIPTION:
DTSTART;TZID=Europe/Berlin:20260418T200000
LOCATION:Schmitz-Mönk @ Willich\, Jakob-Krebs-Str. 28
SEQUENCE:0
SUMMARY:Anrath – Krönungsball
URL:https://johannes-schuetzen.de/?ai1ec_event=st-sebastianer-anrath-kroenu
 ngsball
X-COST-TYPE:free
X-INSTANT-EVENT:1
END:VEVENT
BEGIN:VEVENT
UID:ai1ec-756@johannes-schuetzen.de
DTSTAMP:20260422T112131Z
CATEGORIES:
CONTACT:
DESCRIPTION:
DTSTART;TZID=Europe/Berlin:20260425T190000
LOCATION:Clörather Mühle @ Viersen\, Clörather Mühle 36
SEQUENCE:0
SUMMARY:Rosenbinden
URL:https://johannes-schuetzen.de/?ai1ec_event=rosenbinden
X-COST-TYPE:free
X-INSTANT-EVENT:1
END:VEVENT
BEGIN:VEVENT
UID:ai1ec-757@johannes-schuetzen.de
DTSTAMP:20260422T112131Z
CATEGORIES:
CONTACT:
DESCRIPTION:
DTSTART;TZID=Europe/Berlin:20260509T150000
LOCATION:Clörather Mühle
SEQUENCE:0
SUMMARY:Seniorenkaffee
URL:https://johannes-schuetzen.de/?ai1ec_event=seniorenkaffee
X-COST-TYPE:free
X-INSTANT-EVENT:1
END:VEVENT
BEGIN:VEVENT
UID:ai1ec-1151@johannes-schuetzen.de
DTSTAMP:20260422T112131Z
CATEGORIES:
CONTACT:
DESCRIPTION:
DTSTART;TZID=Europe/Berlin:20260509T194500
LOCATION:Klein-Jerusalem
SEQUENCE:0
SUMMARY:Klein-Jerusalem – Festzeltbesuch
URL:https://johannes-schuetzen.de/?ai1ec_event=klein-jerusalem-festzeltbesu
 ch
X-COST-TYPE:free
X-INSTANT-EVENT:1
END:VEVENT
BEGIN:VEVENT
UID:ai1ec-754@johannes-schuetzen.de
DTSTAMP:20260422T112131Z
CATEGORIES:
CONTACT:
DESCRIPTION:
DTSTART;TZID=Europe/Berlin:20260510T100000
LOCATION:Vereinsheim Grenzweg
SEQUENCE:0
SUMMARY:Jakob Snellen Gedächtnispokalschießen
URL:https://johannes-schuetzen.de/?ai1ec_event=jakob-snellen-gedaechtnis-po
 kalschiessen
X-COST-TYPE:free
X-INSTANT-EVENT:1
END:VEVENT
BEGIN:VEVENT
UID:ai1ec-753@johannes-schuetzen.de
DTSTAMP:20260422T112131Z
CATEGORIES:
CONTACT:
DESCRIPTION:
DTSTART;TZID=Europe/Berlin:20260515T200000
LOCATION:Schmitz-Mönk @ Jakob-Krebs-Str. 28\, 47877 Willich
SEQUENCE:0
SUMMARY:Mitgliederversammlung
URL:https://johannes-schuetzen.de/?ai1ec_event=mitgliederversammlung
X-COST-TYPE:free
X-INSTANT-EVENT:1
END:VEVENT
BEGIN:VEVENT
UID:ai1ec-2238@johannes-schuetzen.de
DTSTAMP:20260422T112131Z
CATEGORIES:
CONTACT:http://www.sebastianer-neersen.de/
DESCRIPTION:
DTSTART;TZID=Europe/Berlin:20260516T123000
LOCATION:Schießplatz @ Reiherweg 5\, 47877 Willich
SEQUENCE:0
SUMMARY:Bezirksschützentag
URL:https://johannes-schuetzen.de/?ai1ec_event=bezirksschuetzentag
X-COST-TYPE:free
X-INSTANT-EVENT:1
END:VEVENT
BEGIN:VEVENT
UID:ai1ec-758@johannes-schuetzen.de
DTSTAMP:20260422T112131Z
CATEGORIES:
CONTACT:
DESCRIPTION:
DTSTART;TZID=Europe/Berlin:20260603T180000
LOCATION:Hof der Familie Thees
SEQUENCE:0
SUMMARY:Kränzebinden
URL:https://johannes-schuetzen.de/?ai1ec_event=kraenze-binden
X-COST-TYPE:free
X-INSTANT-EVENT:1
END:VEVENT
BEGIN:VEVENT
UID:ai1ec-1026@johannes-schuetzen.de
DTSTAMP:20260422T112131Z
CATEGORIES:
CONTACT:
DESCRIPTION:
DTSTART;TZID=Europe/Berlin:20260604T100000
SEQUENCE:0
SUMMARY:Fronleichnamsprozession
URL:https://johannes-schuetzen.de/?ai1ec_event=fronleichnamsprozession
X-COST-TYPE:free
X-INSTANT-EVENT:1
END:VEVENT
BEGIN:VEVENT
UID:ai1ec-1027@johannes-schuetzen.de
DTSTAMP:20260422T112131Z
CATEGORIES:
CONTACT:
DESCRIPTION:
DTSTART;TZID=Europe/Berlin:20260604T150000
LOCATION:Schießanlage @ Willich\, Reiherweg 5
SEQUENCE:0
SUMMARY:Kinder-\, Schüler- und Jugendprinzenschießen
URL:https://johannes-schuetzen.de/?ai1ec_event=schueler-und-jugendprinzensc
 hiessen
X-COST-TYPE:free
X-INSTANT-EVENT:1
END:VEVENT
BEGIN:VEVENT
UID:ai1ec-1029@johannes-schuetzen.de
DTSTAMP:20260422T112131Z
CATEGORIES:
CONTACT:
DESCRIPTION:
DTSTART;TZID=Europe/Berlin:20260605T200000
LOCATION:Festzeltplatz @ Willich\, Clörath 17
SEQUENCE:0
SUMMARY:Zeltmai setzen
URL:https://johannes-schuetzen.de/?ai1ec_event=zeltmai-setzen
X-COST-TYPE:free
X-INSTANT-EVENT:1
END:VEVENT
BEGIN:VEVENT
UID:ai1ec-1030@johannes-schuetzen.de
DTSTAMP:20260422T112131Z
CATEGORIES:
CONTACT:
DESCRIPTION:
DTSTART;TZID=Europe/Berlin:20260605T203000
LOCATION:Festzelt @ Willich\, Clörath 17
SEQUENCE:0
SUMMARY:Clörather Partynacht mit Schützenfesteröffung und Fassanstich
URL:https://johannes-schuetzen.de/?ai1ec_event=zelt-party-mit-dj-norbert
X-COST-TYPE:free
X-INSTANT-EVENT:1
END:VEVENT
BEGIN:VEVENT
UID:ai1ec-1031@johannes-schuetzen.de
DTSTAMP:20260422T112131Z
CATEGORIES:
CONTACT:
DESCRIPTION:
DTSTART;TZID=Europe/Berlin:20260606T153000
LOCATION:Missionskreuz Clörath
SEQUENCE:0
SUMMARY:Kranzniederlegung
URL:https://johannes-schuetzen.de/?ai1ec_event=kranzniederlegung
X-COST-TYPE:free
X-INSTANT-EVENT:1
END:VEVENT
BEGIN:VEVENT
UID:ai1ec-1032@johannes-schuetzen.de
DTSTAMP:20260422T112131Z
CATEGORIES:
CONTACT:
DESCRIPTION:
DTSTART;TZID=Europe/Berlin:20260606T170000
LOCATION:Anrather Kirche @ Willich
SEQUENCE:0
SUMMARY:Festmesse
URL:https://johannes-schuetzen.de/?ai1ec_event=festmesse
X-COST-TYPE:free
X-INSTANT-EVENT:1
END:VEVENT
BEGIN:VEVENT
UID:ai1ec-1033@johannes-schuetzen.de
DTSTAMP:20260422T112131Z
CATEGORIES:
CONTACT:
DESCRIPTION:
DTSTART;TZID=Europe/Berlin:20260606T193000
LOCATION:Festzelt @ Willich\, Clörah 17
SEQUENCE:0
SUMMARY:Schützenball
URL:https://johannes-schuetzen.de/?ai1ec_event=tanzveranstaltung
X-COST-TYPE:free
X-INSTANT-EVENT:1
END:VEVENT
BEGIN:VEVENT
UID:ai1ec-1034@johannes-schuetzen.de
DTSTAMP:20260422T112131Z
CATEGORIES:
CONTACT:
DESCRIPTION:
DTSTART;TZID=Europe/Berlin:20260607T093000
LOCATION:Ehrentribüne Vennheide
SEQUENCE:0
SUMMARY:Königsparade mit großem Zapfenstreich
URL:https://johannes-schuetzen.de/?ai1ec_event=koenigsparade-mit-grossem-za
 pfenstreich
X-COST-TYPE:free
X-INSTANT-EVENT:1
END:VEVENT
BEGIN:VEVENT
UID:ai1ec-1035@johannes-schuetzen.de
DTSTAMP:20260422T112131Z
CATEGORIES:
CONTACT:
DESCRIPTION:
DTSTART;TZID=Europe/Berlin:20260607T110000
LOCATION:Festzelt @ Willich\, Clörath 17
SEQUENCE:0
SUMMARY:Musikalischer Frühschoppen
URL:https://johannes-schuetzen.de/?ai1ec_event=musikalischer-fruehschoppen
X-COST-TYPE:free
X-INSTANT-EVENT:1
END:VEVENT
BEGIN:VEVENT
UID:ai1ec-1036@johannes-schuetzen.de
DTSTAMP:20260422T112131Z
CATEGORIES:
CONTACT:
DESCRIPTION:
DTSTART;TZID=Europe/Berlin:20260607T190000
LOCATION:Ehrentribüne Vennheide
SEQUENCE:0
SUMMARY:Abendparade
URL:https://johannes-schuetzen.de/?ai1ec_event=abendparade
X-COST-TYPE:free
X-INSTANT-EVENT:1
END:VEVENT
BEGIN:VEVENT
UID:ai1ec-1037@johannes-schuetzen.de
DTSTAMP:20260422T112131Z
CATEGORIES:
CONTACT:
DESCRIPTION:
DTSTART;TZID=Europe/Berlin:20260607T194500
LOCATION:Festzelt @ Willich\, Clörath 17
SEQUENCE:0
SUMMARY:Königsgalaball
URL:https://johannes-schuetzen.de/?ai1ec_event=koenigsgalaball
X-COST-TYPE:free
X-INSTANT-EVENT:1
END:VEVENT
BEGIN:VEVENT
UID:ai1ec-1038@johannes-schuetzen.de
DTSTAMP:20260422T112131Z
CATEGORIES:
CONTACT:
DESCRIPTION:
DTSTART;TZID=Europe/Berlin:20260608T163000
LOCATION:Schießanlage @ Willich\, Reiherweg 5
SEQUENCE:0
SUMMARY:Appell durch Regimentsspieß
URL:https://johannes-schuetzen.de/?ai1ec_event=appell-durch-regimentsspiess
X-COST-TYPE:free
X-INSTANT-EVENT:1
END:VEVENT
BEGIN:VEVENT
UID:ai1ec-1039@johannes-schuetzen.de
DTSTAMP:20260422T112131Z
CATEGORIES:
CONTACT:
DESCRIPTION:
DTSTART;TZID=Europe/Berlin:20260608T170000
LOCATION:Schießanlage @ Willich\, Reiherweg 5
SEQUENCE:0
SUMMARY:Königsvogelschuss 2025
URL:https://johannes-schuetzen.de/?ai1ec_event=koenigsvogelschuss-2016
X-COST-TYPE:free
X-INSTANT-EVENT:1
END:VEVENT
BEGIN:VEVENT
UID:ai1ec-1040@johannes-schuetzen.de
DTSTAMP:20260422T112131Z
CATEGORIES:
CONTACT:
DESCRIPTION:
DTSTART;TZID=Europe/Berlin:20260608T203000
LOCATION:Schießanlage @ Willich\, Reiherweg 5
SEQUENCE:0
SUMMARY:Ausklang mit Königskrönung
URL:https://johannes-schuetzen.de/?ai1ec_event=ausklang-mit-koenigskroenung
X-COST-TYPE:free
X-INSTANT-EVENT:1
END:VEVENT
BEGIN:VEVENT
UID:ai1ec-750@johannes-schuetzen.de
DTSTAMP:20260422T112131Z
CATEGORIES:
CONTACT:
DESCRIPTION:
DTSTART;TZID=Europe/Berlin:20260613T200000
LOCATION:Königsburg
SEQUENCE:0
SUMMARY:Hexenverbrennung
URL:https://johannes-schuetzen.de/?ai1ec_event=hexenverbrennung
X-COST-TYPE:free
X-INSTANT-EVENT:1
END:VEVENT
BEGIN:VEVENT
UID:ai1ec-1152@johannes-schuetzen.de
DTSTAMP:20260422T112131Z
CATEGORIES:
CONTACT:
DESCRIPTION:
DTSTART;TZID=Europe/Berlin:20260621T150000
SEQUENCE:0
SUMMARY:Schiefbahn – Festumzug
URL:https://johannes-schuetzen.de/?ai1ec_event=schiefbahn-festumzug
X-COST-TYPE:free
X-INSTANT-EVENT:1
END:VEVENT
BEGIN:VEVENT
UID:ai1ec-1153@johannes-schuetzen.de
DTSTAMP:20260422T112131Z
CATEGORIES:
CONTACT:
DESCRIPTION:
DTSTART;TZID=Europe/Berlin:20260621T200000
SEQUENCE:0
SUMMARY:Schiefbahn – Festzeltbesuch
URL:https://johannes-schuetzen.de/?ai1ec_event=schiefbahn-festzeltbesuch
X-COST-TYPE:free
X-INSTANT-EVENT:1
END:VEVENT
BEGIN:VEVENT
UID:ai1ec-1154@johannes-schuetzen.de
DTSTAMP:20260422T112131Z
CATEGORIES:
CONTACT:
DESCRIPTION:
DTSTART;TZID=Europe/Berlin:20260705T150000
SEQUENCE:0
SUMMARY:Neersen – Festumzug
URL:https://johannes-schuetzen.de/?ai1ec_event=neersen-festumzug
X-COST-TYPE:free
X-INSTANT-EVENT:1
END:VEVENT
BEGIN:VEVENT
UID:ai1ec-1155@johannes-schuetzen.de
DTSTAMP:20260422T112131Z
CATEGORIES:
CONTACT:
DESCRIPTION:
DTSTART;TZID=Europe/Berlin:20260705T193000
LOCATION:Neersen Festzelt
SEQUENCE:0
SUMMARY:Neersen – Festzeltbesuch
URL:https://johannes-schuetzen.de/?ai1ec_event=neersen-festzeltbesuch
X-COST-TYPE:free
X-INSTANT-EVENT:1
END:VEVENT
BEGIN:VEVENT
UID:ai1ec-1156@johannes-schuetzen.de
DTSTAMP:20260422T112131Z
CATEGORIES:
CONTACT:
DESCRIPTION:<p>Ä</p>
DTSTART;TZID=Europe/Berlin:20260711T194500
SEQUENCE:0
SUMMARY:Willich – Festzeltbesuch
URL:https://johannes-schuetzen.de/?ai1ec_event=willich-festzeltbesuch
X-COST-TYPE:free
X-INSTANT-EVENT:1
END:VEVENT
BEGIN:VEVENT
UID:ai1ec-1157@johannes-schuetzen.de
DTSTAMP:20260422T112131Z
CATEGORIES:
CONTACT:
DESCRIPTION:
DTSTART;TZID=Europe/Berlin:20260712T092000
SEQUENCE:0
SUMMARY:Willich – Parade
URL:https://johannes-schuetzen.de/?ai1ec_event=willich-parade
X-COST-TYPE:free
X-INSTANT-EVENT:1
END:VEVENT
BEGIN:VEVENT
UID:ai1ec-1158@johannes-schuetzen.de
DTSTAMP:20260422T112131Z
CATEGORIES:
CONTACT:
DESCRIPTION:
DTSTART;TZID=Europe/Berlin:20260717T193000
SEQUENCE:0
SUMMARY:Grenzweg – Festzeltbesuch
URL:https://johannes-schuetzen.de/?ai1ec_event=grenzweg-festzeltbesuch
X-COST-TYPE:free
X-INSTANT-EVENT:1
END:VEVENT
BEGIN:VEVENT
UID:ai1ec-1159@johannes-schuetzen.de
DTSTAMP:20260422T112131Z
CATEGORIES:
CONTACT:
DESCRIPTION:
DTSTART;TZID=Europe/Berlin:20260719T090000
SEQUENCE:0
SUMMARY:Grenzweg – Festumzug
URL:https://johannes-schuetzen.de/?ai1ec_event=grenzweg-festumzug
X-COST-TYPE:free
X-INSTANT-EVENT:1
END:VEVENT
BEGIN:VEVENT
UID:ai1ec-1160@johannes-schuetzen.de
DTSTAMP:20260422T112131Z
CATEGORIES:
CONTACT:
DESCRIPTION:
DTSTART;TZID=Europe/Berlin:20260816T194500
SEQUENCE:0
SUMMARY:Niederheide – Festzeltbesuch
URL:https://johannes-schuetzen.de/?ai1ec_event=niederheide-festzeltbesuch
X-COST-TYPE:free
X-INSTANT-EVENT:1
END:VEVENT
BEGIN:VEVENT
UID:ai1ec-1161@johannes-schuetzen.de
DTSTAMP:20260422T112131Z
CATEGORIES:
CONTACT:
DESCRIPTION:
DTSTART;TZID=Europe/Berlin:20260830T150000
SEQUENCE:0
SUMMARY:Anrath – Festumzug
URL:https://johannes-schuetzen.de/?ai1ec_event=anrath-festumzug
X-COST-TYPE:free
X-INSTANT-EVENT:1
END:VEVENT
BEGIN:VEVENT
UID:ai1ec-1162@johannes-schuetzen.de
DTSTAMP:20260422T112131Z
CATEGORIES:
CONTACT:
DESCRIPTION:
DTSTART;TZID=Europe/Berlin:20260830T193000
SEQUENCE:0
SUMMARY:Anrath – Festzeltbesuch
URL:https://johannes-schuetzen.de/?ai1ec_event=anrath-festzeltbesuch
X-COST-TYPE:free
X-INSTANT-EVENT:1
END:VEVENT
BEGIN:VEVENT
UID:ai1ec-823@johannes-schuetzen.de
DTSTAMP:20260422T112131Z
CATEGORIES:
CONTACT:
DESCRIPTION:
DTSTART;TZID=Europe/Berlin:20260905T180000
LOCATION:Klein Jerusalem
SEQUENCE:0
SUMMARY:Stadtjungschützenkönigsschießen
URL:https://johannes-schuetzen.de/?ai1ec_event=stadtprinzenschiessen
X-COST-TYPE:free
X-INSTANT-EVENT:1
END:VEVENT
BEGIN:VEVENT
UID:ai1ec-760@johannes-schuetzen.de
DTSTAMP:20260422T112131Z
CATEGORIES:
CONTACT:
DESCRIPTION:
DTSTART;TZID=Europe/Berlin:20260930T200000
LOCATION:Schmitz-Mönk @ Jakob-Krebs-Str. 28\, 47877 Willich
SEQUENCE:0
SUMMARY:3. Erweiterte Vorstandsversammlung
URL:https://johannes-schuetzen.de/?ai1ec_event=erweiterte-vorstandsversamml
 ung-3
X-COST-TYPE:free
X-INSTANT-EVENT:1
END:VEVENT
BEGIN:VEVENT
UID:ai1ec-1147@johannes-schuetzen.de
DTSTAMP:20260422T112131Z
CATEGORIES:
CONTACT:
DESCRIPTION:
DTSTART;TZID=Europe/Berlin:20261010T170000
LOCATION:Hausbrauerei Schmitz-Mönk @ Willich\, Jakob-Krebs-Straße 28
SEQUENCE:0
SUMMARY:Clörather Hüttenwiesen
URL:https://johannes-schuetzen.de/?ai1ec_event=schweineblut
X-COST-TYPE:free
X-INSTANT-EVENT:1
END:VEVENT
BEGIN:VEVENT
UID:ai1ec-762@johannes-schuetzen.de
DTSTAMP:20260422T112131Z
CATEGORIES:
CONTACT:
DESCRIPTION:
DTSTART;TZID=Europe/Berlin:20261108T100000
LOCATION:Vereinsheim Grenzweg
SEQUENCE:0
SUMMARY:Hermann Adrian Gedächtnispokalschießen
URL:https://johannes-schuetzen.de/?ai1ec_event=hermann-adrian-gedaechtnis-p
 okalschiessen
X-COST-TYPE:free
X-INSTANT-EVENT:1
END:VEVENT
BEGIN:VEVENT
UID:ai1ec-718@johannes-schuetzen.de
DTSTAMP:20260422T112131Z
CATEGORIES:
CONTACT:
DESCRIPTION:
DTSTART;TZID=Europe/Berlin:20261113T200000
LOCATION:Schmitz-Mönk @ Jakob-Krebs-Str. 28\, 47877 Willich
SEQUENCE:0
SUMMARY:Generalversammlung
URL:https://johannes-schuetzen.de/?ai1ec_event=jahreshauptversammlung
X-COST-TYPE:free
X-INSTANT-EVENT:1
END:VEVENT
BEGIN:VEVENT
UID:ai1ec-1149@johannes-schuetzen.de
DTSTAMP:20260422T112131Z
CATEGORIES:
CONTACT:
DESCRIPTION:
DTSTART;TZID=Europe/Berlin:20261115T120000
SEQUENCE:0
SUMMARY:Volkstrauertag
URL:https://johannes-schuetzen.de/?ai1ec_event=volkstrauertag
X-COST-TYPE:free
X-INSTANT-EVENT:1
END:VEVENT
END:VCALENDAR
